BEGIN:VCALENDAR
VERSION:2.0
PRODID:-//ChamberMaster//Event Calendar 2.0//EN
METHOD:PUBLISH
X-PUBLISHED-TTL:P3D
REFRESH-INTERVAL:P3D
CALSCALE:GREGORIAN
BEGIN:VEVENT
DTSTART:20251025T210000Z
DTEND:20251026T000000Z
X-MICROSOFT-CDO-ALLDAYEVENT:FALSE
SUMMARY:3rd Annual First Responder Halloween Bash
DESCRIPTION:Join us for the 3rd Annual First Responder Halloween Bash!\n\n \n\nGet ready for a spooktacular evening filled with fun\, food\, and frightful excitement! This family-friendly event is hosted by our incredible first responders\, and it's a night you won't want to miss.\n\n \n\nDate: October 25\, 2025\n\nTime: 4:00-7:00pm\n\nLocation: Neosho Jr. High School 14646 Kodiak Road\n\n\n\nCome dressed in your best costume and enjoy:\n\n\n	Trick-or-Treating with local First Responders\n	Meet and Greet with Firefighters\, Police Officers\, and EMTs\n	Candy\n	Activities and Food\n\n\nThis event is free and open to all ages. Whether you're a ghost\, goblin\, or superhero\, we can't wait to see you there!
X-ALT-DESC;FMTTYPE=text/html:<div>Join us for the 3rd Annual First Responder Halloween Bash!<br />\n&nbsp\;</div>\n\n<div>Get ready for a spooktacular evening filled with fun\, food\, and frightful excitement! This family-friendly event is hosted by our incredible first responders\, and it&#39\;s a night you won&rsquo\;t want to miss.<br />\n&nbsp\;</div>\n\n<div>Date: October 25\, 2025<br />\nTime: 4:00-7:00pm<br />\nLocation: Neosho Jr. High School 14646 Kodiak Road</div>\n\n<div><br />\nCome dressed in your best costume and enjoy:</div>\n\n<ul>\n	<li>Trick-or-Treating with local First Responders</li>\n	<li>Meet and Greet with Firefighters\, Police Officers\, and EMTs</li>\n	<li>Candy</li>\n	<li>Activities and Food</li>\n</ul>\n\n<div>This event is free and open to all ages. Whether you&#39\;re a ghost\, goblin\, or superhero\, we can&#39\;t wait to see you there!</div>\n
LOCATION:Location: Neosho Jr. High School 14646 Kodiak Road
UID:e.2144.18366
SEQUENCE:3
DTSTAMP:20260424T144531Z
URL:http://neoshocc.chambermaster.com/events/details/3rd-annual-first-responder-halloween-bash-18366
END:VEVENT

END:VCALENDAR
